View In:
ArcGIS JavaScript
ArcGIS Online Map Viewer
ArcGIS Earth
Service Description: Fonds_de_plan/Fond_MNT_RGE_Lidar_1m
Name: Fonds_de_plan/Fond_MNT_RGE_Lidar_1m
Description:
Single Fused Map Cache: true
Tile Info:
- Height: 256
- Width: 256
- DPI: 96
-
Levels of Detail: 8
- Format: LERC
- Compression Quality: 0.0
- LERC Error: 0.1
- Origin: X: -3.55975E7
Y: 4.89531E7
- Spatial Reference: 102110
(2154)
LatestVCSWkid(0)
Storage Info:
- Storage Format: esriMapCacheStorageModeCompactV2
- Packet Size: 128
Extent:
XMin: 838978.1642733747
YMin: 6231301.476249776
XMax: 927903.1642733747
YMax: 6300718.476249776
Spatial Reference: 102110
(2154)
LatestVCSWkid(0)
Initial Extent:
XMin: 838978.1642733747
YMin: 6231301.476249776
XMax: 927903.1642733747
YMax: 6300718.476249776
Spatial Reference: 102110
(2154)
LatestVCSWkid(0)
Full Extent:
XMin: 838978.1642733747
YMin: 6231301.476249776
XMax: 927903.1642733747
YMax: 6300718.476249776
Spatial Reference: 102110
(2154)
LatestVCSWkid(0)
Pixel Size X: 1.0
Pixel Size Y: 1.0
Band Count: 1
Pixel Type: F32
RasterFunction Infos: {"rasterFunctionInfos": [{
"name": "None",
"description": "",
"help": ""
}]}
Mensuration Capabilities: Basic
Inspection Capabilities:
Has Histograms: true
Has Colormap: false
Has Multi Dimensions : false
Rendering Rule:
Min Scale: 512000
Max Scale: 4000
Min LOD: 0
Max LOD: 7
Copyright Text:
Service Data Type: esriImageServiceDataTypeGeneric
Min Values: -100
Max Values: 1148.8374023438
Mean Values: 194.96956686597
Standard Deviation Values: 171.23737062619
Object ID Field:
Fields:
None
Default Mosaic Method: Center
Allowed Mosaic Methods:
SortField:
SortValue: null
Mosaic Operator: First
Default Compression Quality: 75
Default Resampling Method: Bilinear
Max Record Count: null
Max Image Height: 4100
Max Image Width: 15000
Max Download Image Count: null
Max Mosaic Image Count: null
Allow Raster Function: true
Allow Copy: true
Allow Analysis: true
Allow Compute TiePoints: false
Supports Statistics: false
Supports Advanced Queries: false
Use StandardizedQueries: true
Raster Type Infos:
Name: Raster Dataset
Description: Supports all ArcGIS Raster Datasets
Help:
Has Raster Attribute Table: false
Edit Fields Info: null
Ownership Based AccessControl For Rasters: null
Child Resources:
Info
Histograms
Statistics
Key Properties
Legend
Raster Function Infos
Supported Operations:
Export Image
Identify
Measure
Compute Histograms
Compute Statistics Histograms
Get Samples
Compute Class Statistics
Query Boundary
Compute Pixel Location
Compute Angles
Validate
Project